BEGIN:VCALENDAR
VERSION:2.0
PRODID:icalendar-ruby
CALSCALE:GREGORIAN
METHOD:PUBLISH
BEGIN:VEVENT
DTSTAMP:20260426T021024Z
UID:3ff972db-8910-49c0-ac50-4b4685c4e605
DTSTART;VALUE=DATE:20180204
DTEND;VALUE=DATE:20180204
DESCRIPTION:Redwood Empire BMX
LOCATION:201 Vance Ave  Samoa CA 95564 USA
SUMMARY:Standard Single Single
URL:/site/bmx_races/370553
END:VEVENT
END:VCALENDAR
