BEGIN:VCALENDAR
VERSION:2.0
PRODID:icalendar-ruby
CALSCALE:GREGORIAN
METHOD:PUBLISH
BEGIN:VEVENT
DTSTAMP:20260424T092603Z
UID:0d00e19c-ddf0-4917-855e-82697b3324a6
DTSTART;VALUE=DATE:20180818
DTEND;VALUE=DATE:20180818
DESCRIPTION:Manzanita Park BMX
LOCATION: 17100 Castroville Blvd  Prunedale CA 93907 USA
SUMMARY:Standard Double Double
URL:/site/bmx_races/370178
END:VEVENT
END:VCALENDAR
