BEGIN:VCALENDAR
VERSION:2.0
PRODID:icalendar-ruby
CALSCALE:GREGORIAN
METHOD:PUBLISH
BEGIN:VEVENT
DTSTAMP:20260424T215350Z
UID:23876e79-9100-4952-8dc1-cfa539c45748
DTSTART;VALUE=DATE:20180610
DTEND;VALUE=DATE:20180610
DESCRIPTION:Wee-Chi-Tah BMX
LOCATION:404 Burkburnett Rd   WICHITA FALLS TX 76306 USA
SUMMARY:Standard Double Double
URL:/site/bmx_races/369979
END:VEVENT
END:VCALENDAR
