BEGIN:VCALENDAR
VERSION:2.0
PRODID:icalendar-ruby
CALSCALE:GREGORIAN
METHOD:PUBLISH
BEGIN:VEVENT
DTSTAMP:20260424T090140Z
UID:4bc57aca-20c8-4768-903b-d8dc2585f77e
DTSTART;VALUE=DATE:20180719
DTEND;VALUE=DATE:20180719
DESCRIPTION:Twin Silo BMX
LOCATION:5400 Ziegler Rd.   Ft Collins CO 80528 USA
SUMMARY:Standard Single Single
URL:/site/bmx_races/369945
END:VEVENT
END:VCALENDAR
