BEGIN:VCALENDAR
VERSION:2.0
PRODID:icalendar-ruby
CALSCALE:GREGORIAN
METHOD:PUBLISH
BEGIN:VEVENT
DTSTAMP:20260425T120714Z
UID:1e29b89f-9134-4dfe-b1e5-a87652f5d3b7
DTSTART;VALUE=DATE:20180826
DTEND;VALUE=DATE:20180826
DESCRIPTION:Winchester BMX
LOCATION:1001 E. Cork Street  Winchester VA 22601 USA
SUMMARY:Standard Double Double
URL:/site/bmx_races/369877
END:VEVENT
END:VCALENDAR
