BEGIN:VCALENDAR
VERSION:2.0
PRODID:icalendar-ruby
CALSCALE:GREGORIAN
METHOD:PUBLISH
BEGIN:VEVENT
DTSTAMP:20260424T172256Z
UID:b47a8f54-befb-4816-9b95-4f70f1ef83c6
DTSTART;VALUE=DATE:20180817
DTEND;VALUE=DATE:20180817
DESCRIPTION:Moses Lake BMX
LOCATION:610 Yakima Ave  Moses Lake WA 98837 USA
SUMMARY:Standard Single Single
URL:/site/bmx_races/369439
END:VEVENT
END:VCALENDAR
