BEGIN:VCALENDAR
VERSION:2.0
PRODID:icalendar-ruby
CALSCALE:GREGORIAN
METHOD:PUBLISH
BEGIN:VEVENT
DTSTAMP:20260424T091948Z
UID:98a81a35-53b8-47bf-819b-e0751c59e0f3
DTSTART;VALUE=DATE:20180420
DTEND;VALUE=DATE:20180420
DESCRIPTION:Burdette Park BMX
LOCATION:5821 Nurrenbern Rd  Evansville IN 47712 USA
SUMMARY:Standard Single Single
URL:/site/bmx_races/369272
END:VEVENT
END:VCALENDAR
