BEGIN:VCALENDAR
VERSION:2.0
PRODID:icalendar-ruby
CALSCALE:GREGORIAN
METHOD:PUBLISH
BEGIN:VEVENT
DTSTAMP:20260425T144148Z
UID:fa701b1f-fb33-4616-8c10-8ef771ccaf46
DTSTART;VALUE=DATE:20181020
DTEND;VALUE=DATE:20181020
DESCRIPTION:Brighton BMX
LOCATION:414 N Maple St  Brighton IL 62012 USA
SUMMARY:Standard Single Single
URL:/site/bmx_races/368873
END:VEVENT
END:VCALENDAR
