BEGIN:VCALENDAR
VERSION:2.0
PRODID:icalendar-ruby
CALSCALE:GREGORIAN
METHOD:PUBLISH
BEGIN:VEVENT
DTSTAMP:20260425T214206Z
UID:25fb4269-79d0-4e91-b06e-3369fe2d4fff
DTSTART;VALUE=DATE:20181003
DTEND;VALUE=DATE:20181003
DESCRIPTION:Sports Park BMX
LOCATION:6901 N Casa Grande Highway  Tucson AZ 85743 USA
SUMMARY:Standard Single Single
URL:/site/bmx_races/368687
END:VEVENT
END:VCALENDAR
