BEGIN:VCALENDAR
VERSION:2.0
PRODID:icalendar-ruby
CALSCALE:GREGORIAN
METHOD:PUBLISH
BEGIN:VEVENT
DTSTAMP:20260424T184713Z
UID:933d1778-6baf-4078-8ad5-54917663786f
DTSTART;VALUE=DATE:20180418
DTEND;VALUE=DATE:20180418
DESCRIPTION:Sports Park BMX
LOCATION:6901 N Casa Grande Highway  Tucson AZ 85743 USA
SUMMARY:Standard Single Single
URL:/site/bmx_races/368639
END:VEVENT
END:VCALENDAR
