BEGIN:VCALENDAR
VERSION:2.0
PRODID:icalendar-ruby
CALSCALE:GREGORIAN
METHOD:PUBLISH
BEGIN:VEVENT
DTSTAMP:20260424T184607Z
UID:016892ff-9ec6-4abd-aa39-13c1a83a315d
DTSTART;VALUE=DATE:20180824
DTEND;VALUE=DATE:20180824
DESCRIPTION:Santa Maria BMX
LOCATION:4040 Highway 101  Santa Maria CA 93455 USA
SUMMARY:Standard Single Single
URL:/site/bmx_races/368501
END:VEVENT
END:VCALENDAR
