BEGIN:VCALENDAR
VERSION:2.0
PRODID:icalendar-ruby
CALSCALE:GREGORIAN
METHOD:PUBLISH
BEGIN:VEVENT
DTSTAMP:20260425T025603Z
UID:b3de48fe-2412-4ddb-a7be-efd634d6b15e
DTSTART;VALUE=DATE:20180512
DTEND;VALUE=DATE:20180512
DESCRIPTION:Oak Creek BMX
LOCATION:648 Riverside Ave  Roseville CA 95678 USA
SUMMARY:Standard Single Single
URL:/site/bmx_races/368218
END:VEVENT
END:VCALENDAR
