BEGIN:VCALENDAR
VERSION:2.0
PRODID:icalendar-ruby
CALSCALE:GREGORIAN
METHOD:PUBLISH
BEGIN:VEVENT
DTSTAMP:20260424T220217Z
UID:5db18c05-bc2a-4542-b6ec-0ed004bc4691
DTSTART;VALUE=DATE:20180813
DTEND;VALUE=DATE:20180813
DESCRIPTION:Falls BMX Park
LOCATION:7553 Beechwood Rd  Niagara Falls ON L2E6S5 CAN
SUMMARY:Standard Single Single
URL:/site/bmx_races/367983
END:VEVENT
END:VCALENDAR
