BEGIN:VCALENDAR
VERSION:2.0
PRODID:icalendar-ruby
CALSCALE:GREGORIAN
METHOD:PUBLISH
BEGIN:VEVENT
DTSTAMP:20260425T142020Z
UID:1d602316-1c9d-4907-88f8-58d1b7a82f94
DTSTART;VALUE=DATE:20180727
DTEND;VALUE=DATE:20180727
DESCRIPTION:Rock Hill BMX Supercross Track
LOCATION:1307 Riverwalk Parkway  Rock Hill SC 29730 USA
SUMMARY:Standard Single Single
URL:/site/bmx_races/367872
END:VEVENT
END:VCALENDAR
