BEGIN:VCALENDAR
VERSION:2.0
PRODID:icalendar-ruby
CALSCALE:GREGORIAN
METHOD:PUBLISH
BEGIN:VEVENT
DTSTAMP:20260424T131209Z
UID:d9ce1bf8-b5f8-4348-9dc4-d40f63f52a78
DTSTART;VALUE=DATE:20180324
DTEND;VALUE=DATE:20180324
DESCRIPTION:Gretna BMX Raceway
LOCATION:800 Gretna Blvd  Gretna LA 70053 USA
SUMMARY:Standard Single Single
URL:/site/bmx_races/367609
END:VEVENT
END:VCALENDAR
