BEGIN:VCALENDAR
VERSION:2.0
PRODID:icalendar-ruby
CALSCALE:GREGORIAN
METHOD:PUBLISH
BEGIN:VEVENT
DTSTAMP:20260424T185736Z
UID:8600045f-c170-4d9e-ad31-c0262d5a1381
DTSTART;VALUE=DATE:20180227
DTEND;VALUE=DATE:20180227
DESCRIPTION:Gretna BMX Raceway
LOCATION:800 Gretna Blvd  Gretna LA 70053 USA
SUMMARY:Standard Single Single
URL:/site/bmx_races/367554
END:VEVENT
END:VCALENDAR
