BEGIN:VCALENDAR
VERSION:2.0
PRODID:icalendar-ruby
CALSCALE:GREGORIAN
METHOD:PUBLISH
BEGIN:VEVENT
DTSTAMP:20260424T082022Z
UID:6aa6ef2b-ae7a-4e24-8ccf-aa2c6e04293e
DTSTART;VALUE=DATE:20180120
DTEND;VALUE=DATE:20180120
DESCRIPTION:Black Mountain BMX
LOCATION:24024 N 11th St  Phoenix AZ 85024 USA
SUMMARY:Standard Double Double
URL:/site/bmx_races/367461
END:VEVENT
END:VCALENDAR
