BEGIN:VCALENDAR
VERSION:2.0
PRODID:icalendar-ruby
CALSCALE:GREGORIAN
METHOD:PUBLISH
BEGIN:VEVENT
DTSTAMP:20260425T215203Z
UID:01bd74bb-411f-48c6-ba3f-0fd0a03dc636
DTSTART;VALUE=DATE:20180526
DTEND;VALUE=DATE:20180526
DESCRIPTION:Waterford Oaks BMX
LOCATION:1702 Scott Lake Rd  Waterford MI 48328 USA
SUMMARY:Standard Single Single
URL:/site/bmx_races/367226
END:VEVENT
END:VCALENDAR
