BEGIN:VCALENDAR
VERSION:2.0
PRODID:icalendar-ruby
CALSCALE:GREGORIAN
METHOD:PUBLISH
BEGIN:VEVENT
DTSTAMP:20260424T103548Z
UID:fa86ec81-7ec2-49f0-88cf-e25784f20f07
DTSTART;VALUE=DATE:20180428
DTEND;VALUE=DATE:20180428
DESCRIPTION:Pikes Peak BMX
LOCATION:8270 Lexington Dr   Colorado Springs CO 80920 USA
SUMMARY:Standard Single Single
URL:/site/bmx_races/367113
END:VEVENT
END:VCALENDAR
