BEGIN:VCALENDAR
VERSION:2.0
PRODID:icalendar-ruby
CALSCALE:GREGORIAN
METHOD:PUBLISH
BEGIN:VEVENT
DTSTAMP:20260425T161036Z
UID:447c574c-e778-45be-8c00-723aa9407adf
DTSTART;VALUE=DATE:20180630
DTEND;VALUE=DATE:20180630
DESCRIPTION:Hire Park BMX
LOCATION:750 E Arthur St  Warsaw IN 46580 USA
SUMMARY:Standard Single Single
URL:/site/bmx_races/366754
END:VEVENT
END:VCALENDAR
