BEGIN:VCALENDAR
VERSION:2.0
PRODID:icalendar-ruby
CALSCALE:GREGORIAN
METHOD:PUBLISH
BEGIN:VEVENT
DTSTAMP:20260426T020204Z
UID:b26e18d8-5a2a-4797-8b78-06f33125512e
DTSTART;VALUE=DATE:20180823
DTEND;VALUE=DATE:20180823
DESCRIPTION:Milton BMX - Track 2000 
LOCATION:Drumquin Park   Britania Road Milton ON L9T 7G6 CAN
SUMMARY:Standard Single Single
URL:/site/bmx_races/366685
END:VEVENT
END:VCALENDAR
