BEGIN:VCALENDAR
VERSION:2.0
PRODID:icalendar-ruby
CALSCALE:GREGORIAN
METHOD:PUBLISH
BEGIN:VEVENT
DTSTAMP:20260425T114042Z
UID:86b34ce7-66f2-4482-8489-f95d936fcab5
DTSTART;VALUE=DATE:20180715
DTEND;VALUE=DATE:20180715
DESCRIPTION:Chesapeake BMX
LOCATION:726 Donaldson Avenue  Severn MD 21144 USA
SUMMARY:Standard Single Single
URL:/site/bmx_races/366200
END:VEVENT
END:VCALENDAR
