BEGIN:VCALENDAR
VERSION:2.0
PRODID:icalendar-ruby
CALSCALE:GREGORIAN
METHOD:PUBLISH
BEGIN:VEVENT
DTSTAMP:20260425T024403Z
UID:bc1f5775-3dd0-4358-bf2c-db5a6433cb17
DTSTART;VALUE=DATE:20180601
DTEND;VALUE=DATE:20180601
DESCRIPTION:Chesapeake BMX
LOCATION:726 Donaldson Avenue  Severn MD 21144 USA
SUMMARY:Standard Single Single
URL:/site/bmx_races/366187
END:VEVENT
END:VCALENDAR
