BEGIN:VCALENDAR
VERSION:2.0
PRODID:icalendar-ruby
CALSCALE:GREGORIAN
METHOD:PUBLISH
BEGIN:VEVENT
DTSTAMP:20260425T003830Z
UID:342d5c8a-6a7a-45d6-b3b3-746da0ad8c92
DTSTART;VALUE=DATE:20130330
DTEND;VALUE=DATE:20130330
DESCRIPTION:Ventura BMX Raceway
LOCATION:901 S. Kimball Road  Ventura CA 93004 USA
SUMMARY:Race for Life Double
URL:/site/bmx_races/36584
END:VEVENT
END:VCALENDAR
