BEGIN:VCALENDAR
VERSION:2.0
PRODID:icalendar-ruby
CALSCALE:GREGORIAN
METHOD:PUBLISH
BEGIN:VEVENT
DTSTAMP:20260425T103351Z
UID:dc86567a-a388-48e5-8189-2ddcf1e29542
DTSTART;VALUE=DATE:20181005
DTEND;VALUE=DATE:20181005
DESCRIPTION:Blue Springs BMX
LOCATION:2715 Nw Park Drive  Blue Springs MO 64015 USA
SUMMARY:Standard Single Single
URL:/site/bmx_races/365740
END:VEVENT
END:VCALENDAR
