BEGIN:VCALENDAR
VERSION:2.0
PRODID:icalendar-ruby
CALSCALE:GREGORIAN
METHOD:PUBLISH
BEGIN:VEVENT
DTSTAMP:20260424T102927Z
UID:e93faa50-e19c-4105-96d4-3448f1dc68ff
DTSTART;VALUE=DATE:20181025
DTEND;VALUE=DATE:20181025
DESCRIPTION:Cape Coral BMX
LOCATION:1410 Sw 6th Place  Cape Coral FL 33991 USA
SUMMARY:Standard Single Single
URL:/site/bmx_races/365545
END:VEVENT
END:VCALENDAR
