BEGIN:VCALENDAR
VERSION:2.0
PRODID:icalendar-ruby
CALSCALE:GREGORIAN
METHOD:PUBLISH
BEGIN:VEVENT
DTSTAMP:20260424T063221Z
UID:668a432d-44ea-49e9-91bb-7aaebf3d330a
DTSTART;VALUE=DATE:20180610
DTEND;VALUE=DATE:20180610
DESCRIPTION:Deseret Peak BMX 
LOCATION:2930 West Hwy 112  Tooele UT 84074 USA
SUMMARY:Qualifier Triple
URL:/site/bmx_races/365418
END:VEVENT
END:VCALENDAR
