BEGIN:VCALENDAR
VERSION:2.0
PRODID:icalendar-ruby
CALSCALE:GREGORIAN
METHOD:PUBLISH
BEGIN:VEVENT
DTSTAMP:20260424T072220Z
UID:f60bf42d-68ad-402f-a081-363bae024d6e
DTSTART;VALUE=DATE:20130517
DTEND;VALUE=DATE:20130517
DESCRIPTION:EHT BMX
LOCATION:Veterans Memorial Park Ocean Heights Ave Egg Harbor Township NJ 08
 234 USA
SUMMARY:Earned Double
URL:/site/bmx_races/36539
END:VEVENT
END:VCALENDAR
