BEGIN:VCALENDAR
VERSION:2.0
PRODID:icalendar-ruby
CALSCALE:GREGORIAN
METHOD:PUBLISH
BEGIN:VEVENT
DTSTAMP:20260425T221509Z
UID:fff308f4-c564-4c5a-9232-9aeb9254c370
DTSTART;VALUE=DATE:20180311
DTEND;VALUE=DATE:20180311
DESCRIPTION:Grand Valley BMX
LOCATION:2785 U.S. Highway 50  Grand Junction CO 81503 USA
SUMMARY:Standard Single Single
URL:/site/bmx_races/365345
END:VEVENT
END:VCALENDAR
