BEGIN:VCALENDAR
VERSION:2.0
PRODID:icalendar-ruby
CALSCALE:GREGORIAN
METHOD:PUBLISH
BEGIN:VEVENT
DTSTAMP:20260425T114138Z
UID:615dd521-02ce-4aed-b4fe-c1fd9438658b
DTSTART;VALUE=DATE:20180513
DTEND;VALUE=DATE:20180513
DESCRIPTION:Westerville BMX
LOCATION:535 Park Meadow Road  Westerville OH 43081 USA
SUMMARY:Standard Single Single
URL:/site/bmx_races/365321
END:VEVENT
END:VCALENDAR
