BEGIN:VCALENDAR
VERSION:2.0
PRODID:icalendar-ruby
CALSCALE:GREGORIAN
METHOD:PUBLISH
BEGIN:VEVENT
DTSTAMP:20260419T124255Z
UID:ddfcabb6-45c6-454e-8958-65c2d43ead8f
DTSTART;VALUE=DATE:20181212
DTEND;VALUE=DATE:20181212
DESCRIPTION:Metro BMX
LOCATION:3805 Chester Ave  In The Sam Lynn Ballpark Complex Bakersfield CA 
 93301 USA
SUMMARY:Practice
URL:/site/bmx_races/365317
END:VEVENT
END:VCALENDAR
