BEGIN:VCALENDAR
VERSION:2.0
PRODID:icalendar-ruby
CALSCALE:GREGORIAN
METHOD:PUBLISH
BEGIN:VEVENT
DTSTAMP:20260425T141959Z
UID:984dccc3-eb1e-4e25-8bb0-96f9aad917af
DTSTART;VALUE=DATE:20130630
DTEND;VALUE=DATE:20130630
DESCRIPTION:Squamish BMX Racing Track
LOCATION:1009 Centennial Way  Squamish BC V0N1T0 CAN
SUMMARY:Provincial Race Double
URL:/site/bmx_races/36527
END:VEVENT
END:VCALENDAR
