BEGIN:VCALENDAR
VERSION:2.0
PRODID:icalendar-ruby
CALSCALE:GREGORIAN
METHOD:PUBLISH
BEGIN:VEVENT
DTSTAMP:20260425T021651Z
UID:841c94f0-045a-411a-8266-ca6d1870475e
DTSTART;VALUE=DATE:20180406
DTEND;VALUE=DATE:20180406
DESCRIPTION:Metro BMX
LOCATION:3805 Chester Ave  In The Sam Lynn Ballpark Complex Bakersfield CA 
 93301 USA
SUMMARY:Standard Single Single
URL:/site/bmx_races/365175
END:VEVENT
END:VCALENDAR
