BEGIN:VCALENDAR
VERSION:2.0
PRODID:icalendar-ruby
CALSCALE:GREGORIAN
METHOD:PUBLISH
BEGIN:VEVENT
DTSTAMP:20260425T021640Z
UID:7855b8f0-505c-469d-ba96-0cc0ad95a66b
DTSTART;VALUE=DATE:20180811
DTEND;VALUE=DATE:20180811
DESCRIPTION:Cajun BMX Park
LOCATION:301 Rue Fosse  Lafayette LA 70508 USA
SUMMARY:Qualifier Triple
URL:/site/bmx_races/365118
END:VEVENT
END:VCALENDAR
