BEGIN:VCALENDAR
VERSION:2.0
PRODID:icalendar-ruby
CALSCALE:GREGORIAN
METHOD:PUBLISH
BEGIN:VEVENT
DTSTAMP:20260424T095005Z
UID:025837ac-0c49-4c7a-a79d-f7392eecadd5
DTSTART;VALUE=DATE:20180527
DTEND;VALUE=DATE:20180527
DESCRIPTION:Star City BMX
LOCATION:101 Charleston St  Lincoln NE 68508 USA
SUMMARY:Qualifier Triple
URL:/site/bmx_races/364902
END:VEVENT
END:VCALENDAR
