BEGIN:VCALENDAR
VERSION:2.0
PRODID:icalendar-ruby
CALSCALE:GREGORIAN
METHOD:PUBLISH
BEGIN:VEVENT
DTSTAMP:20260424T082044Z
UID:b9480e12-b745-46d8-ae8d-f5c4de8e69c3
DTSTART;VALUE=DATE:20181027
DTEND;VALUE=DATE:20181027
DESCRIPTION:Blanchard Woods BMX
LOCATION:4600 Blanchard Woods Drive  Evans GA 30809 USA
SUMMARY:Standard Single Single
URL:/site/bmx_races/364608
END:VEVENT
END:VCALENDAR
