BEGIN:VCALENDAR
VERSION:2.0
PRODID:icalendar-ruby
CALSCALE:GREGORIAN
METHOD:PUBLISH
BEGIN:VEVENT
DTSTAMP:20260424T154540Z
UID:e2127af3-d47c-4830-9de2-575d167282a2
DTSTART;VALUE=DATE:20130105
DTEND;VALUE=DATE:20130105
DESCRIPTION:Hornet`s Nest BMX
LOCATION:6301 Beatties Ford Rd  Charlotte NC 28216 USA
SUMMARY:Earned Double
URL:/site/bmx_races/36437
END:VEVENT
END:VCALENDAR
