BEGIN:VCALENDAR
VERSION:2.0
PRODID:icalendar-ruby
CALSCALE:GREGORIAN
METHOD:PUBLISH
BEGIN:VEVENT
DTSTAMP:20260425T221510Z
UID:73778a5e-40b1-4db3-9ecf-ac69bffa987b
DTSTART;VALUE=DATE:20180623
DTEND;VALUE=DATE:20180623
DESCRIPTION:Freedom Park BMX Raceway
LOCATION:530 Convair St  Camarillo CA 93010 USA
SUMMARY:Standard Single Single
URL:/site/bmx_races/363297
END:VEVENT
END:VCALENDAR
