BEGIN:VCALENDAR
VERSION:2.0
PRODID:icalendar-ruby
CALSCALE:GREGORIAN
METHOD:PUBLISH
BEGIN:VEVENT
DTSTAMP:20260424T202322Z
UID:6c0f8b9e-25c2-4200-8456-1daa2c35f227
DTSTART;VALUE=DATE:20180531
DTEND;VALUE=DATE:20180531
DESCRIPTION:Freedom Park BMX Raceway
LOCATION:530 Convair St  Camarillo CA 93010 USA
SUMMARY:Standard Single Single
URL:/site/bmx_races/363281
END:VEVENT
END:VCALENDAR
