BEGIN:VCALENDAR
VERSION:2.0
PRODID:icalendar-ruby
CALSCALE:GREGORIAN
METHOD:PUBLISH
BEGIN:VEVENT
DTSTAMP:20260425T193314Z
UID:3c444716-c2ca-4b7d-957c-e81d28e0f48a
DTSTART;VALUE=DATE:20180210
DTEND;VALUE=DATE:20180210
DESCRIPTION:Freedom Park BMX Raceway
LOCATION:530 Convair St  Camarillo CA 93010 USA
SUMMARY:Standard Single Single
URL:/site/bmx_races/363202
END:VEVENT
END:VCALENDAR
