BEGIN:VCALENDAR
VERSION:2.0
PRODID:icalendar-ruby
CALSCALE:GREGORIAN
METHOD:PUBLISH
BEGIN:VEVENT
DTSTAMP:20260425T144149Z
UID:5e7f02f1-f3c3-44c0-99cf-33c6c2343a8b
DTSTART;VALUE=DATE:20180602
DTEND;VALUE=DATE:20180602
DESCRIPTION:Miami South BMX
LOCATION:13050 Sw 216th Street  Miami FL 33170 USA
SUMMARY:Standard Single Single
URL:/site/bmx_races/363084
END:VEVENT
END:VCALENDAR
