BEGIN:VCALENDAR
VERSION:2.0
PRODID:icalendar-ruby
CALSCALE:GREGORIAN
METHOD:PUBLISH
BEGIN:VEVENT
DTSTAMP:20260425T015454Z
UID:02eef98a-de86-4b81-ae5a-b3954de7dba6
DTSTART;VALUE=DATE:20180730
DTEND;VALUE=DATE:20180730
DESCRIPTION:Bellflower BMX
LOCATION:9030 Somerset Blvd  Bellflower CA 90706 USA
SUMMARY:Standard Single Single
URL:/site/bmx_races/362839
END:VEVENT
END:VCALENDAR
