BEGIN:VCALENDAR
VERSION:2.0
PRODID:icalendar-ruby
CALSCALE:GREGORIAN
METHOD:PUBLISH
BEGIN:VEVENT
DTSTAMP:20260424T092601Z
UID:bd145b1a-fa45-4db5-9158-2ad0ebbc4412
DTSTART;VALUE=DATE:20180614
DTEND;VALUE=DATE:20180614
DESCRIPTION:Bellflower BMX
LOCATION:9030 Somerset Blvd  Bellflower CA 90706 USA
SUMMARY:Standard Single Single
URL:/site/bmx_races/362819
END:VEVENT
END:VCALENDAR
