BEGIN:VCALENDAR
VERSION:2.0
PRODID:icalendar-ruby
CALSCALE:GREGORIAN
METHOD:PUBLISH
BEGIN:VEVENT
DTSTAMP:20260424T115237Z
UID:3c3a0add-30ed-427c-88df-62a39303efac
DTSTART;VALUE=DATE:20180914
DTEND;VALUE=DATE:20180914
DESCRIPTION:Molalla River BMX
LOCATION:920 Toliver Rd  Molalla OR 97038 USA
SUMMARY:Standard Single Single
URL:/site/bmx_races/362637
END:VEVENT
END:VCALENDAR
