BEGIN:VCALENDAR
VERSION:2.0
PRODID:icalendar-ruby
CALSCALE:GREGORIAN
METHOD:PUBLISH
BEGIN:VEVENT
DTSTAMP:20260425T010709Z
UID:dff1ee10-685f-41ab-b694-668b808a0f4e
DTSTART;VALUE=DATE:20180603
DTEND;VALUE=DATE:20180603
DESCRIPTION:Blue Springs BMX
LOCATION:2715 Nw Park Drive  Blue Springs MO 64015 USA
SUMMARY:Qualifier/State Triple
URL:/site/bmx_races/362561
END:VEVENT
END:VCALENDAR
