BEGIN:VCALENDAR
VERSION:2.0
PRODID:icalendar-ruby
CALSCALE:GREGORIAN
METHOD:PUBLISH
BEGIN:VEVENT
DTSTAMP:20260425T125407Z
UID:ce3215fe-5a96-43a3-90a3-d36cfea72822
DTSTART;VALUE=DATE:20130526
DTEND;VALUE=DATE:20130526
DESCRIPTION:Rockford BMX
LOCATION:4950 Safford Rd  Rockford IL 61101 USA
SUMMARY:State Race Triple
URL:/site/bmx_races/36256
END:VEVENT
END:VCALENDAR
