BEGIN:VCALENDAR
VERSION:2.0
PRODID:icalendar-ruby
CALSCALE:GREGORIAN
METHOD:PUBLISH
BEGIN:VEVENT
DTSTAMP:20260425T150754Z
UID:75b879f3-6f28-4d6a-8d6b-db22907dcb12
DTSTART;VALUE=DATE:20180714
DTEND;VALUE=DATE:20180714
DESCRIPTION:Riverside BMX
LOCATION:Mason Sports Complex 701 Mason Rec Rd. Cumberland MD 21502 USA
SUMMARY:Standard Double Double
URL:/site/bmx_races/362553
END:VEVENT
END:VCALENDAR
