BEGIN:VCALENDAR
VERSION:2.0
PRODID:icalendar-ruby
CALSCALE:GREGORIAN
METHOD:PUBLISH
BEGIN:VEVENT
DTSTAMP:20260425T200102Z
UID:4dd19feb-e7f4-4678-821a-b08a885dc45e
DTSTART;VALUE=DATE:20180721
DTEND;VALUE=DATE:20180721
DESCRIPTION:Burlington BMX
LOCATION:1450 Graham Street  Burlington NC 27217 USA
SUMMARY:Qualifier Triple
URL:/site/bmx_races/362548
END:VEVENT
END:VCALENDAR
