BEGIN:VCALENDAR
VERSION:2.0
PRODID:icalendar-ruby
CALSCALE:GREGORIAN
METHOD:PUBLISH
BEGIN:VEVENT
DTSTAMP:20260425T021521Z
UID:3f7a1004-3d88-460f-93dd-e71f8e5f1f27
DTSTART;VALUE=DATE:20180811
DTEND;VALUE=DATE:20180811
DESCRIPTION:Seatac BMX
LOCATION:1855 S 136th St  Sea Tac WA 98168 USA
SUMMARY:Qualifier/State Triple
URL:/site/bmx_races/362521
END:VEVENT
END:VCALENDAR
