BEGIN:VCALENDAR
VERSION:2.0
PRODID:icalendar-ruby
CALSCALE:GREGORIAN
METHOD:PUBLISH
BEGIN:VEVENT
DTSTAMP:20260425T230418Z
UID:0fb90682-3d06-4ffb-9b4d-4c874843b5eb
DTSTART;VALUE=DATE:20130407
DTEND;VALUE=DATE:20130407
DESCRIPTION:Metro BMX
LOCATION:3805 Chester Ave  In The Sam Lynn Ballpark Complex Bakersfield CA 
 93301 USA
SUMMARY:Earned Double
URL:/site/bmx_races/36242
END:VEVENT
END:VCALENDAR
